BEGIN:VCALENDAR
VERSION:2.0
PRODID:-//Ju-Jutsu-TSH - ECPv6.15.20//NONSGML v1.0//EN
CALSCALE:GREGORIAN
METHOD:PUBLISH
X-ORIGINAL-URL:https://ju-jutsu-tsh-online.de
X-WR-CALDESC:Veranstaltungen für Ju-Jutsu-TSH
REFRESH-INTERVAL;VALUE=DURATION:PT1H
X-Robots-Tag:noindex
X-PUBLISHED-TTL:PT1H
BEGIN:VTIMEZONE
TZID:UTC
BEGIN:STANDARD
TZOFFSETFROM:+0000
TZOFFSETTO:+0000
TZNAME:UTC
DTSTART:20250101T000000
END:STANDARD
END:VTIMEZONE
BEGIN:VEVENT
DTSTART;TZID=UTC:20260214T000000
DTEND;TZID=UTC:20260214T235959
DTSTAMP:20260421T102600
CREATED:20251227T120429Z
LAST-MODIFIED:20251227T120431Z
UID:793-1771027200-1771113599@ju-jutsu-tsh-online.de
SUMMARY:Landeslehrgang
DESCRIPTION:Techniklehrgang Stock\, Näheres folgt
URL:https://ju-jutsu-tsh-online.de/event/landeslehrgang/
LOCATION:Hamburg
END:VEVENT
END:VCALENDAR