BEGIN:VCALENDAR
VERSION:2.0
PRODID:-//Ju-Jutsu-TSH - ECPv6.15.20//NONSGML v1.0//EN
CALSCALE:GREGORIAN
METHOD:PUBLISH
X-ORIGINAL-URL:https://ju-jutsu-tsh-online.de
X-WR-CALDESC:Veranstaltungen für Ju-Jutsu-TSH
REFRESH-INTERVAL;VALUE=DURATION:PT1H
X-Robots-Tag:noindex
X-PUBLISHED-TTL:PT1H
BEGIN:VTIMEZONE
TZID:UTC
BEGIN:STANDARD
TZOFFSETFROM:+0000
TZOFFSETTO:+0000
TZNAME:UTC
DTSTART:20250101T000000
END:STANDARD
END:VTIMEZONE
BEGIN:VEVENT
DTSTART;TZID=UTC:20260321T100000
DTEND;TZID=UTC:20260321T143000
DTSTAMP:20260421T090450
CREATED:20260306T160005Z
LAST-MODIFIED:20260306T160007Z
UID:824-1774087200-1774103400@ju-jutsu-tsh-online.de
SUMMARY:Bodentechniken
DESCRIPTION:Halten\, Befreien und verteidigen am Boden
URL:https://ju-jutsu-tsh-online.de/event/bodentechniken/
LOCATION:Carl-Cohn-Straße 41\, Carl-Cohn-Straße 41\, Hamburg\, Hamburg\, 22297
END:VEVENT
BEGIN:VEVENT
DTSTART;TZID=UTC:20260328T130000
DTEND;TZID=UTC:20260328T160000
DTSTAMP:20260421T090450
CREATED:20251227T120908Z
LAST-MODIFIED:20251227T120910Z
UID:795-1774702800-1774713600@ju-jutsu-tsh-online.de
SUMMARY:Landeslehrgang
DESCRIPTION:Techniklehrgang JJ Prüfungsprogramm
URL:https://ju-jutsu-tsh-online.de/event/landeslehrgang-2/
LOCATION:LLZ\, Zwischen den Süderelbbrücken\, Hamburg\, 21109\, Germany
END:VEVENT
END:VCALENDAR